BEGIN:VCALENDAR
VERSION:2.0
PRODID:-//ChamberMaster//Event Calendar 2.0//EN
METHOD:PUBLISH
X-PUBLISHED-TTL:P3D
REFRESH-INTERVAL:P3D
CALSCALE:GREGORIAN
BEGIN:VEVENT
DTSTART:20250507T230000Z
DTEND:20250508T003000Z
X-MICROSOFT-CDO-ALLDAYEVENT:FALSE
SUMMARY:YMCA Camp Kilworth Reopening Celebration
DESCRIPTION:Join your neighbors and the Y as we celebrate the reopening of Camp Kilworth for kids and community!\n\n\n\nShort Program at 5pm followed by camp tours of the extensive reclamation of this 25-acre forested property.\n\n\n\nYou'll also get a sneak peek of the restoration plans for the historically landmarked Rotary and Timberwolf Lodges.
X-ALT-DESC;FMTTYPE=text/html:Join your neighbors and the Y as we celebrate the reopening of Camp Kilworth for kids and community!<br />\n<br />\nShort Program at 5pm followed by camp tours of the extensive reclamation of this 25-acre forested property.<br />\n<br />\nYou&#39\;ll also get a sneak peek of the restoration plans for the historically landmarked Rotary and Timberwolf Lodges.<br />\n<br />\n&nbsp\;
LOCATION:YMCA Camp Kilworth 30900 50th Ave SW Federal Way\, WA 98023
UID:e.1152.10641
SEQUENCE:3
DTSTAMP:20260422T093430Z
URL:https://business.federalwaychamber.com/events/details/ymca-camp-kilworth-reopening-celebration-10641
END:VEVENT

END:VCALENDAR
