BEGIN:VCALENDAR
VERSION:2.0
PRODID:-//ChamberMaster//Event Calendar 2.0//EN
METHOD:PUBLISH
X-PUBLISHED-TTL:P3D
REFRESH-INTERVAL:P3D
CALSCALE:GREGORIAN
BEGIN:VEVENT
DTSTART:20250429T190000Z
DTEND:20250429T220000Z
X-MICROSOFT-CDO-ALLDAYEVENT:FALSE
SUMMARY:WorkSource Spring Regional Career Fair
DESCRIPTION:Connect with employers from both King and Pierce Counties.\n\n\n\nThere are over 3500 accumulative jobs available with benefits. Known average wages range from $22.20 - $32.03 per hour and average salary ranges from $82\, 516.75 - $115\,258.\n\n\n\nFree Shuttle Access!\n\nEmerald Downs Shuttle will drive to and from Auburn Station Bay 6 (110 2nd St\, SW\, Auburn\, WA 98001).\n\n\n\nQUESTIONS?\n\nKing County -\n\nESDGPWSNorthSeattleBusinessServices@esd.wa.gov\n\nPierce County -\n\nESDGPWSPierceBusinessServices@esd.wa.gov\n\n\n\nREGISTRATION: https://forms.office.com/g/x75kx0c89z
X-ALT-DESC;FMTTYPE=text/html:<span style="font-size:20px\;">Connect with employers from both King and Pierce Counties.</span><br />\n<br />\n<span style="font-size:14px\;">There are over&nbsp\;<strong>3500</strong>&nbsp\;accumulative jobs available with benefits. Known average wages range from&nbsp\;<strong>$22.20 - $32.03</strong>&nbsp\;per hour and average salary ranges from&nbsp\;<strong>$82\, 516.75 - $115\,258</strong>.</span><br />\n<br />\n<span style="font-size:16px\;"><strong>Free Shuttle Access!</strong></span><br />\n<span style="font-size:14px\;">Emerald Downs Shuttle will drive to and from&nbsp\;Auburn Station Bay 6 (110 2nd St\, SW\, Auburn\, WA 98001).</span><br />\n<br />\n<strong><span style="font-size:16px\;">QUESTIONS?</span><br />\n<span style="font-size:14px\;">King County -</span></strong><br />\n<span style="font-size:14px\;">ESDGPWSNorthSeattleBusinessServices@esd.wa.gov<br />\n<strong>Pierce County -</strong><br />\nESDGPWSPierceBusinessServices@esd.wa.gov</span><br />\n<br />\n<strong>REGISTRATION:&nbsp\;</strong><span style="font-size:14px\;">https://forms.office.com/g/x75kx0c89z</span><br />\n&nbsp\;
LOCATION:Emerald Downs
UID:e.1152.10650
SEQUENCE:3
DTSTAMP:20260422T112807Z
URL:https://business.federalwaychamber.com/events/details/worksource-spring-regional-career-fair-10650
END:VEVENT

END:VCALENDAR
