BEGIN:VCALENDAR
VERSION:2.0
PRODID:-//ChamberMaster//Event Calendar 2.0//EN
METHOD:PUBLISH
X-PUBLISHED-TTL:P3D
REFRESH-INTERVAL:P3D
CALSCALE:GREGORIAN
BEGIN:VEVENT
DTSTART:20250910T170000Z
DTEND:20250910T180000Z
X-MICROSOFT-CDO-ALLDAYEVENT:FALSE
SUMMARY:Wealth Wave Briefing: 401K Retirement Plan Exchange
DESCRIPTION:As Washington gets ready for the implementation of Washington Saves mandates in 2027\, the Chamber is partnering with Wealth Wave on an exciting retirement project for our members.\n\n \n\nJoin us September 10 to learn more about the Retirement Plan Exchange from Bengt Johnson\, senior advisor at Wealth Wave.
X-ALT-DESC;FMTTYPE=text/html:<p style="margin: 0px\; padding: 0px\; color: rgb(62\, 62\, 62)\; font-family: Arial\, Verdana\, Helvetica\, sans-serif\; font-size: 14px\;"><span style="font-size:14px\;"><span style="color: rgb(36\, 36\, 36)\; font-family: Roboto\, sans-serif\;">As Washington gets ready for the implementation of Washington Saves mandates in 2027\, the Chamber is partnering with&nbsp\;</span><a href="https://business.fedwaychamber.com/list/member/wealth-wave-1113480" rel="noopener noreferrer" style="font-size: 18px\; font-family: Roboto\, sans-serif\; color: rgb(44\, 116\, 255)\;" target="_blank">Wealth Wave</a><a href="https://business.fedwaychamber.com/list/member/wealth-wave-1113480" rel="noopener noreferrer" style="text-decoration-line: none\; font-size: 18px\; font-family: Roboto\, sans-serif\; color: rgb(44\, 116\, 255)\; font-weight: bold\;" target="_blank">&nbsp\;</a><span style="color: rgb(36\, 36\, 36)\; font-family: Roboto\, sans-serif\;">on an exciting retirement project for our members.</span></span></p>\n\n<p style="margin: 0px\; padding: 0px\; color: rgb(62\, 62\, 62)\; font-family: Arial\, Verdana\, Helvetica\, sans-serif\; font-size: 14px\;">&nbsp\;</p>\n\n<p style="margin: 0px\; padding: 0px\; color: rgb(62\, 62\, 62)\; font-family: Arial\, Verdana\, Helvetica\, sans-serif\; font-size: 14px\;"><span style="font-size:14px\;"><span style="color: rgb(36\, 36\, 36)\; font-family: Roboto\, sans-serif\;">Join us September 10 to learn more about the Retirement Plan Exchange from Bengt Johnson\, senior advisor at&nbsp\;</span><span style="font-family: Roboto\, sans-serif\;">Wealth Wave</span><span style="color: rgb(36\, 36\, 36)\; font-family: Roboto\, sans-serif\;">.</span></span></p>\n
LOCATION:Chamber Board Room 31919 1st ave S. STE 202 Federal Way\, Wa\, 98003
UID:e.1152.10921
SEQUENCE:3
DTSTAMP:20260422T012659Z
URL:https://business.federalwaychamber.com/events/details/wealth-wave-briefing-401k-retirement-plan-exchange-10921
END:VEVENT

END:VCALENDAR
