BEGIN:VCALENDAR
VERSION:2.0
PRODID:-//ChamberMaster//Event Calendar 2.0//EN
METHOD:PUBLISH
X-PUBLISHED-TTL:P3D
REFRESH-INTERVAL:P3D
CALSCALE:GREGORIAN
BEGIN:VEVENT
DTSTART:20260618T170000Z
DTEND:20260618T180000Z
X-MICROSOFT-CDO-ALLDAYEVENT:FALSE
SUMMARY:WA Cares and Shared Work
DESCRIPTION:REGISTER FOR THE WEBINAR ON EVENTBRITE HERE\n\n\n\nThe June 18 webinar features the SharedWork program and the new WA CARES (long-term services and supports). Learn the latest developments of two important programs businesses need to know about for their operational effectiveness and to thrive.\n\nWhat you'll learn about the Washington Cares Fund:\n\n\n	How to collect pay premiums from your employees beginning July 2023.\n	Tracking employee exemptions.\n	Continuing to offer long-term care insurance to employees and handling exemptions. Exemptions are permanent and employees can never opt back in\, even if they change jobs.
X-ALT-DESC;FMTTYPE=text/html:<p class="cvGsUA direction-ltr align-start para-style-body" style="color: rgba(0\,0\,0\,var(--O42jJQ\,1))\; caret-color: rgb(0\, 0\, 0)\; --8sD0Kg: none\; font-family: YACgEev4gKc_0\, _fb_\, auto\; --cyV3ZQ: 13.3333px\; --gJPlXQ: 1.4\; --s8NbEA: p\; line-height: 18px\;"><a href="https://www.eventbrite.com/e/employment-security-departments-wa-cares-and-shared-work-program-tickets-1985323481978?aff=oddtdtcreator&amp\;keep_tld=true" style="box-sizing: border-box\; color: rgb(128\, 170\, 188)\; outline: 0px\; outline-offset: -2px\; overflow-wrap: break-word\; font-family: arial\; font-size: 22px\;"><u style="box-sizing: border-box\; outline: 0px\;"><font color="#008080" style="box-sizing: border-box\; outline: 0px\;"><span style="box-sizing: border-box\; font-weight: bolder\; outline: 0px\;">REGISTER FOR THE WEBINAR ON EVENTBRITE HERE</span></font></u></a><br />\n<br />\n<span style="font-size:18px\;"><span style="font-family:arial\;"><span class="a_GcMg font-feature-liga-off font-feature-clig-off font-feature-calt-off text-decoration-none text-strikethrough-none" style="color: rgba(0\,0\,0\,var(--O42jJQ\,1))\; --Ys-XuQ: none\; font-kerning: none\;">The June 18 webinar features the SharedWork program and the new WA CARES (long-term services and supports). Learn the latest developments of two important programs businesses need to know about for their operational effectiveness and to thrive.</span></span></span></p>\n\n<p class="cvGsUA direction-ltr align-start para-style-body" style="color: rgba(0\,0\,0\,var(--O42jJQ\,1))\; caret-color: rgb(0\, 0\, 0)\; --8sD0Kg: none\; font-family: YACgEev4gKc_0\, _fb_\, auto\; --cyV3ZQ: 13.3333px\; --gJPlXQ: 1.4\; --s8NbEA: p\; line-height: 18px\;"><span style="font-size:18px\;"><span style="font-family:arial\;"><span class="a_GcMg font-feature-liga-off font-feature-clig-off font-feature-calt-off text-decoration-none text-strikethrough-none" style="color: rgba(0\,0\,0\,var(--O42jJQ\,1))\; --Ys-XuQ: none\; font-weight: 700\; font-kerning: none\;">What you&rsquo\;ll learn about the Washington Cares Fund:</span></span></span></p>\n\n<ul>\n	<li><span style="font-size:18px\;"><span style="font-family:arial\;"><span class="a_GcMg font-feature-liga-off font-feature-clig-off font-feature-calt-off text-decoration-none text-strikethrough-none" style="color: rgba(0\,0\,0\,var(--O42jJQ\,1))\; caret-color: rgb(0\, 0\, 0)\; --Ys-XuQ: none\; font-kerning: none\;">How to collect pay premiums from your employees beginning July 2023.</span></span></span></li>\n	<li><span style="font-size:18px\;"><span style="font-family:arial\;"><span class="a_GcMg font-feature-liga-off font-feature-clig-off font-feature-calt-off text-decoration-none text-strikethrough-none" style="color: rgba(0\,0\,0\,var(--O42jJQ\,1))\; caret-color: rgb(0\, 0\, 0)\; --Ys-XuQ: none\; font-kerning: none\;">Tracking employee exemptions.</span></span></span></li>\n	<li><span style="font-size:18px\;"><span style="font-family:arial\;"><span class="a_GcMg font-feature-liga-off font-feature-clig-off font-feature-calt-off text-decoration-none text-strikethrough-none" style="color: rgba(0\,0\,0\,var(--O42jJQ\,1))\; caret-color: rgb(0\, 0\, 0)\; --Ys-XuQ: none\; font-kerning: none\;">Continuing to offer long-term care insurance to employees and handling exemptions. Exemptions are permanent and employees can never opt back in\, even if they change jobs.</span></span></span></li>\n</ul>\n
LOCATION:Zoom Webinar. Meeting info will be received upon registration
UID:e.1152.11008
SEQUENCE:3
DTSTAMP:20260421T234852Z
URL:https://business.federalwaychamber.com/events/details/wa-cares-act-and-shared-work-11008
END:VEVENT

END:VCALENDAR
