BEGIN:VCALENDAR
VERSION:2.0
PRODID:-//ChamberMaster//Event Calendar 2.0//EN
METHOD:PUBLISH
X-PUBLISHED-TTL:P3D
REFRESH-INTERVAL:P3D
CALSCALE:GREGORIAN
BEGIN:VEVENT
DTSTART:20140218T190000Z
DTEND:20140218T220000Z
X-MICROSOFT-CDO-ALLDAYEVENT:FALSE
SUMMARY:Veteran Resource & Career Fair
DESCRIPTION:This event caters specifically to Veterans\, Active Duty and their Spouses\, however it is also Open to the PUBLIC! *** VetReady will be hosting Support Our Troops Resource & Career Fairs which are designed to promote employment\, educational opportunities and other resources to our veterans\, active duty military and spouses. Our new approach in hosting regional military career and resource fairs is to first recognize the need to support our troops\, however in the interim\, what sets this event apart from other military career fairs is the fact the we have a open door policy for everyone. The 2014 Support Our Troops Resource & Career Fairs will provide an ideal venue for businesses and recruiters who can meet face-to-face with hundreds if not thousands of active military troops\, veterans\, spouses to promote available resources and complete immediate\, in-person interviews. We look forward to a successful event and encourage your participation. Register on Eventbrite: http://www.eventbrite.com/e/seattle-resource-career-fair-tickets-9977913207?aff=rss
X-ALT-DESC;FMTTYPE=text/html:This event caters specifically to Veterans\, Active Duty and their Spouses\, however it is also Open to the PUBLIC! *** VetReady will be hosting Support Our Troops Resource &amp\; Career Fairs which are designed to promote employment\, educational opportunities and other resources to our veterans\, active duty military and spouses. Our new approach in hosting regional military career and resource fairs is to first recognize the need to support our troops\, however in the interim\, what sets this event apart from other military career fairs is the fact the we have a open door policy for everyone. The 2014 Support Our Troops Resource &amp\; Career Fairs will provide an ideal venue for businesses and recruiters who can meet face-to-face with hundreds if not thousands of active military troops\, veterans\, spouses to promote available resources and complete immediate\, in-person interviews. We look forward to a successful event and encourage your participation. Register on Eventbrite: http://www.eventbrite.com/e/seattle-resource-career-fair-tickets-9977913207?aff=rss 
LOCATION:DeVry University Campus 3600 S. 344th Way Federal Way\, WA
UID:e.1152.1436
SEQUENCE:3
DTSTAMP:20260421T083807Z
URL:https://business.federalwaychamber.com/events/details/veteran-resource-career-fair-02-18-2014-1436
END:VEVENT

END:VCALENDAR
