BEGIN:VCALENDAR
VERSION:2.0
PRODID:-//ChamberMaster//Event Calendar 2.0//EN
METHOD:PUBLISH
X-PUBLISHED-TTL:P3D
REFRESH-INTERVAL:P3D
CALSCALE:GREGORIAN
BEGIN:VEVENT
DTSTART:20250918T183000Z
DTEND:20250918T190000Z
X-MICROSOFT-CDO-ALLDAYEVENT:FALSE
SUMMARY:VEG ER for Pets - Ribbon Cutting Ceremony
DESCRIPTION:Big moment alert: VEG ER for Pets in Federal Way\, WA is officially OPEN! ????\n\n\n\nWe're here 24/7\, 365 days a year because pet emergencies don't follow a schedule. From cats and dogs to exotics and everything in between\, if it fits through the door\, we're ready to help. ??\n\n\n\nSave our number now so if the unexpected happens\, you can call and speak to a VEG doctor right away.\n\n\n\nhttps://www.veterinaryemergencygroup.com/locations/washington/federal-way\n\n\n\n1209 S 320th St Federal Way\, WA 98003\n\n(253) 260-3919
X-ALT-DESC;FMTTYPE=text/html:<span style="color:rgba(0\, 0\, 0\, 0.9)\; font-family:-apple-system\,system-ui\,system-ui\,segoe ui\,roboto\,helvetica neue\,fira sans\,ubuntu\,oxygen\,oxygen sans\,cantarell\,droid sans\,apple color emoji\,segoe ui emoji\,segoe ui emoji\,segoe ui symbol\,lucida grande\,helvetica\,arial\,sans-serif\; font-size:14px">Big moment alert: VEG ER for Pets in Federal Way\, WA is officially OPEN! ????</span><br />\n<br />\n<span style="color:rgba(0\, 0\, 0\, 0.9)\; font-family:-apple-system\,system-ui\,system-ui\,segoe ui\,roboto\,helvetica neue\,fira sans\,ubuntu\,oxygen\,oxygen sans\,cantarell\,droid sans\,apple color emoji\,segoe ui emoji\,segoe ui emoji\,segoe ui symbol\,lucida grande\,helvetica\,arial\,sans-serif\; font-size:14px">We&rsquo\;re here 24/7\, 365 days a year&mdash\;because pet emergencies don&rsquo\;t follow a schedule. From cats and dogs to exotics and everything in between\, if it fits through the door\, we&rsquo\;re ready to help. ??</span><br />\n<br />\n<span style="color:rgba(0\, 0\, 0\, 0.9)\; font-family:-apple-system\,system-ui\,system-ui\,segoe ui\,roboto\,helvetica neue\,fira sans\,ubuntu\,oxygen\,oxygen sans\,cantarell\,droid sans\,apple color emoji\,segoe ui emoji\,segoe ui emoji\,segoe ui symbol\,lucida grande\,helvetica\,arial\,sans-serif\; font-size:14px">Save our number now&mdash\;so if the unexpected happens\, you can call and speak to a VEG doctor right away.</span><br />\n<br />\n<a href="https://www.veterinaryemergencygroup.com/locations/washington/federal-way">https://www.veterinaryemergencygroup.com/locations/washington/federal-way</a><br />\n<br />\n<span style="background-color:rgb(255\, 255\, 255)\; color:rgb(51\, 51\, 51)\; font-family:sans-serif\,arial\,verdana\,trebuchet ms\; font-size:13px">1209 S 320th St Federal Way\, WA 98003</span><br />\n<span style="color:rgba(0\, 0\, 0\, 0.9)\; font-family:-apple-system\,system-ui\,system-ui\,segoe ui\,roboto\,helvetica neue\,fira sans\,ubuntu\,oxygen\,oxygen sans\,cantarell\,droid sans\,apple color emoji\,segoe ui emoji\,segoe ui emoji\,segoe ui symbol\,lucida grande\,helvetica\,arial\,sans-serif\; font-size:14px">(253) 260-3919</span>
LOCATION:1209 S 320th St Federal Way\, WA 98003
UID:e.1152.10673
SEQUENCE:3
DTSTAMP:20260422T013250Z
URL:https://business.federalwaychamber.com/events/details/veg-er-for-pets-ribbon-cutting-ceremony-10673
END:VEVENT

END:VCALENDAR
