BEGIN:VCALENDAR
VERSION:2.0
PRODID:-//ChamberMaster//Event Calendar 2.0//EN
METHOD:PUBLISH
X-PUBLISHED-TTL:P3D
REFRESH-INTERVAL:P3D
CALSCALE:GREGORIAN
BEGIN:VEVENT
DTSTART:20250506T160000Z
DTEND:20250506T180000Z
X-MICROSOFT-CDO-ALLDAYEVENT:FALSE
SUMMARY:Senior Sit-Downs
DESCRIPTION:Join us on the first Tuesday of every month for conversation\, friendship\, crafts\, special guests\, coffee and refreshments.
X-ALT-DESC;FMTTYPE=text/html:Join us on the first Tuesday of every month for conversation\, friendship\, crafts\, special guests\, coffee and refreshments.&nbsp\;
LOCATION:Senior Helpers of Greater Puyallup- 32717 1st Ave. S.\, Suite 7\, Federal Way\, WA 98003
UID:e.1152.10264
SEQUENCE:3
DTSTAMP:20260422T093412Z
URL:https://business.federalwaychamber.com/events/details/senior-sit-downs-05-06-2025-10264
END:VEVENT

END:VCALENDAR
