BEGIN:VCALENDAR
VERSION:2.0
PRODID:-//ChamberMaster//Event Calendar 2.0//EN
METHOD:PUBLISH
X-PUBLISHED-TTL:P3D
REFRESH-INTERVAL:P3D
CALSCALE:GREGORIAN
BEGIN:VEVENT
DTSTART:20250524T020000Z
DTEND:20250524T050000Z
X-MICROSOFT-CDO-ALLDAYEVENT:FALSE
SUMMARY:Seawolves Chamber Night
DESCRIPTION:We'll see you on May 23 for Chamber of Commerce Night with the Seattle Seawolves! Join us for an exclusive pregame networking tent\, fan fest activities\, food trucks\, and an exhilarating rugby match.\n\n\n\nGet your tickets today at www.gofevo.com/event/Federalway82
X-ALT-DESC;FMTTYPE=text/html:<div class="xdj266r x11i5rnm xat24cr x1mh8g0r x1vvkbs x126k92a" style="margin: 0px\; overflow-wrap: break-word\; white-space-collapse: preserve\; font-family: &quot\;Segoe UI Historic&quot\;\, &quot\;Segoe UI&quot\;\, Helvetica\, Arial\, sans-serif\; color: rgb(8\, 8\, 9)\; font-size: 15px\;">\n<div dir="auto" style="font-family: inherit\;"><span style="font-family:arial\;"><span style="font-size:18px\;">We&#39\;ll see you on May 23 for Chamber of Commerce Night with the <span class="html-span xdj266r x11i5rnm xat24cr x1mh8g0r xexx8yu x4uap5 x18d9i69 xkhd6sd x1hl2dhg x16tdsg8 x1vvkbs" style="margin: 0px\; text-align: inherit\; overflow-wrap: break-word\; padding: 0px\;"><a attributionsrc="/privacy_sandbox/comet/register/source/?xt=AZUA2Gtt-UAQ70fTmOCLveIbTO6wMG6Gzhp6U2hSchb3Jn3yVwU383G7z4nCK7Wxp-l7nh5W49j2d1eUZMgGqKYNN4aiWlto6Gj04i2MZsIdAiItlYm--CoZYj2pCpG-7SFHru0yViTrJWWzzVJkTiZKj2LrgBibYFN0rp5Ur9T7nYr3F9QwNY1forfl4b5fUlx9fYo8oQwDxZcrtjI_7yLd5JErWw6p1XVaSbJnU6JdBssBMveiXTihslR5tJxn8ZTruyXVs4BbIyqXW02najSUyTQ85DfQjCbYjyq0A8bKrRd3R9nIUS9zVbBmeh0M0NJwky0ovQBhazcLguSKhM9sC7awq_EI4EMYsg-On4d7WbWTh2REZ-Mb_IPf4kyS1aIaC6yYgW1lyTu0ow7YPoXUb0x10XylwRkIBL2pMFlBiV_mdEgwTVe0hNLYjmMWddj32flrg308RnGBiMqjAzl_Z3RNdoggGKG9Cke5elQNqdIS80JX7mGEPABlDAbzL7XcyMS4pHUo5ymZKTfexpETWjkWmV7vUF7GkE-91AblherFLZLyijH0epaWsFO-XcCixbdz9a-e4FdfnkIloO9avZS5p_G0jAS5wAcd_pzWQwN3yDBWrjZHyTZxQCa6VuyH0Bji2f8ZepT3SZj3dekUE0Y1a2b95ynGj6As5AKCmohZGK9Hjbbxb0zOcW1mGe4HVJBKUlGpdoWo8sPvx__1ISlMtkhuq4QSHV6MgkHh3tX9UOJhwUyPnsmEsujO_bhhnX0dXIgVjN5m2CbiD5kVTC2qCdExBwuuZCFfzjHz6CvEPTUtjZR-siZz1vz0yjMLuGrQMrrivmJNQBjv0OVBJwUpDUEO46IJtckCkAESXnhT8DnPYfnEOC9yLaLDqS7X6A-oxXty9dqjkVdgqv2_D8hhI1rL4R9SHVny8DphnGwGWkUD_U2K5VZO2cJRuhppq8_QdE3L4CMuBcW0jhnIFlMgfCw_gV75icdAlDO7KXN3a1UaQmml8KtMz-tDOH5LdHDbARx4vOOvZ_W5bGzKjvh73_8V05oI5GwPzBti8zirHLepf3pnpuy9IKGa2XVV75AqFWhqKZWqgJopCk7w4faYH702mNjnZcwlkw9gBVq4jrIUncgcpiV5xWGSlbXUz2KMG2CwxWCDFM3TBx1oKBCr2TdUY87GvjNTqKS0bLomvZBUK83dYR11DUtqyCMEBUAKdno2djTaN_TwNOYhCHRAMUXUZACx7tHkWVJi8-9TJDjKyZI2GXpvXDUk0H5Ij7rIU7E72U_eRjBJm4D5-ibX7-HujXM7wbt7AkBxqYo652mfnbxY8UEC08eMZVQmbD1ra4SJymI3yGduBNloUn7yoazZw_DMafhd4_do9kAtxT3jFFeVNQQKKUyCboartTNE46KSgD2Obq79r_napE2d6Fvvs2DIC20ODFfLL05coSDQkduJqNEOwOexpibNcvUm3K9xvx1bR-aJkeLChvP70gf5cZKRnLK96xbmLWK2Vd_-6RjwMdTVF_OGRtdDQ2deR7fRdlLFqSN5MRV76T_30o9O6vQn5NmFg3KdXpDBZ5VoWEw4Zh84yeHkNaSVpzNNh3en-_MG1iuGgM8xBgKZUNfE5EzlEYk59sSb_0dKkMB2oIjUV4ogo3FYy0c" class="x1i10hfl xjbqb8w x1ejq31n xd10rxx x1sy0etr x17r0tee x972fbf xcfux6l x1qhh985 xm0m39n x9f619 x1ypdohk xt0psk2 xe8uvvx xdj266r x11i5rnm xat24cr x1mh8g0r xexx8yu x4uap5 x18d9i69 xkhd6sd x16tdsg8 x1hl2dhg xggy1nq x1a2a7pz xkrqix3 x1sur9pj x1fey0fg x1s688f" href="https://business.fedwaychamber.com/list/member/seattle-seawolves-1113476" role="link" style="color: rgb(0\, 100\, 209)\; cursor: pointer\; text-decoration-line: none\; list-style: none\; margin: 0px\; text-align: inherit\; border-style: none\; padding: 0px\; box-sizing: border-box\; border-width: 0px\; outline: none\; -webkit-tap-highlight-color: transparent\; font-weight: 600\; touch-action: manipulation\; background-color: transparent\; display: inline\; font-family: inherit\;" tabindex="0"><span class="xt0psk2" style="display: inline\;">Seattle Seawolves</span></a></span>! Join us for an exclusive pregame networking tent\, fan fest activities\, food trucks\, and an exhilarating rugby match.<br />\n<br />\nGet your tickets today at <a attributionsrc="/privacy_sandbox/comet/register/source/?xt=AZUA2Gtt-UAQ70fTmOCLveIbTO6wMG6Gzhp6U2hSchb3Jn3yVwU383G7z4nCK7Wxp-l7nh5W49j2d1eUZMgGqKYNN4aiWlto6Gj04i2MZsIdAiItlYm--CoZYj2pCpG-7SFHru0yViTrJWWzzVJkTiZKj2LrgBibYFN0rp5Ur9T7nYr3F9QwNY1forfl4b5fUlx9fYo8oQwDxZcrtjI_7yLd5JErWw6p1XVaSbJnU6JdBssBMveiXTihslR5tJxn8ZTruyXVs4BbIyqXW02najSUyTQ85DfQjCbYjyq0A8bKrRd3R9nIUS9zVbBmeh0M0NJwky0ovQBhazcLguSKhM9sC7awq_EI4EMYsg-On4d7WbWTh2REZ-Mb_IPf4kyS1aIaC6yYgW1lyTu0ow7YPoXUb0x10XylwRkIBL2pMFlBiV_mdEgwTVe0hNLYjmMWddj32flrg308RnGBiMqjAzl_Z3RNdoggGKG9Cke5elQNqdIS80JX7mGEPABlDAbzL7XcyMS4pHUo5ymZKTfexpETWjkWmV7vUF7GkE-91AblherFLZLyijH0epaWsFO-XcCixbdz9a-e4FdfnkIloO9avZS5p_G0jAS5wAcd_pzWQwN3yDBWrjZHyTZxQCa6VuyH0Bji2f8ZepT3SZj3dekUE0Y1a2b95ynGj6As5AKCmohZGK9Hjbbxb0zOcW1mGe4HVJBKUlGpdoWo8sPvx__1ISlMtkhuq4QSHV6MgkHh3tX9UOJhwUyPnsmEsujO_bhhnX0dXIgVjN5m2CbiD5kVTC2qCdExBwuuZCFfzjHz6CvEPTUtjZR-siZz1vz0yjMLuGrQMrrivmJNQBjv0OVBJwUpDUEO46IJtckCkAESXnhT8DnPYfnEOC9yLaLDqS7X6A-oxXty9dqjkVdgqv2_D8hhI1rL4R9SHVny8DphnGwGWkUD_U2K5VZO2cJRuhppq8_QdE3L4CMuBcW0jhnIFlMgfCw_gV75icdAlDO7KXN3a1UaQmml8KtMz-tDOH5LdHDbARx4vOOvZ_W5bGzKjvh73_8V05oI5GwPzBti8zirHLepf3pnpuy9IKGa2XVV75AqFWhqKZWqgJopCk7w4faYH702mNjnZcwlkw9gBVq4jrIUncgcpiV5xWGSlbXUz2KMG2CwxWCDFM3TBx1oKBCr2TdUY87GvjNTqKS0bLomvZBUK83dYR11DUtqyCMEBUAKdno2djTaN_TwNOYhCHRAMUXUZACx7tHkWVJi8-9TJDjKyZI2GXpvXDUk0H5Ij7rIU7E72U_eRjBJm4D5-ibX7-HujXM7wbt7AkBxqYo652mfnbxY8UEC08eMZVQmbD1ra4SJymI3yGduBNloUn7yoazZw_DMafhd4_do9kAtxT3jFFeVNQQKKUyCboartTNE46KSgD2Obq79r_napE2d6Fvvs2DIC20ODFfLL05coSDQkduJqNEOwOexpibNcvUm3K9xvx1bR-aJkeLChvP70gf5cZKRnLK96xbmLWK2Vd_-6RjwMdTVF_OGRtdDQ2deR7fRdlLFqSN5MRV76T_30o9O6vQn5NmFg3KdXpDBZ5VoWEw4Zh84yeHkNaSVpzNNh3en-_MG1iuGgM8xBgKZUNfE5EzlEYk59sSb_0dKkMB2oIjUV4ogo3FYy0c" class="x1i10hfl xjbqb8w x1ejq31n xd10rxx x1sy0etr x17r0tee x972fbf xcfux6l x1qhh985 xm0m39n x9f619 x1ypdohk xt0psk2 xe8uvvx xdj266r x11i5rnm xat24cr x1mh8g0r xexx8yu x4uap5 x18d9i69 xkhd6sd x16tdsg8 x1hl2dhg xggy1nq x1a2a7pz xkrqix3 x1sur9pj x1fey0fg x1s688f" href="https://www.gofevo.com/event/Federalway82?fbclid=IwZXh0bgNhZW0CMTAAYnJpZBExd0xmQjNjd0VPYnpWdGNHOAEelyAXbQ_Old6uflH5_JVuygSyr9E7lHq-hifT24FM-DF1eHFfVRaLCUQtMPA_aem_-jpLbn4zDyXb594vQmiUnA" rel="nofollow noreferrer" role="link" style="color: rgb(0\, 100\, 209)\; font-family: inherit\; font-size: 15px\; text-align: inherit\; white-space-collapse: preserve\; background-color: transparent\; cursor: pointer\; text-decoration-line: none\; list-style: none\; margin: 0px\; border-style: none\; padding: 0px\; box-sizing: border-box\; border-width: 0px\; outline: none\; -webkit-tap-highlight-color: transparent\; font-weight: 600\; touch-action: manipulation\; display: inline\;" tabindex="0" target="_blank">www.gofevo.com/event/Federalway82</a></span></span></div>\n</div>\n
LOCATION:Starfire Stadium
UID:e.1152.10660
SEQUENCE:3
DTSTAMP:20260422T093059Z
URL:https://business.federalwaychamber.com/events/details/seawolves-chamber-night-10660
END:VEVENT

END:VCALENDAR
