BEGIN:VCALENDAR
VERSION:2.0
PRODID:-//ChamberMaster//Event Calendar 2.0//EN
METHOD:PUBLISH
X-PUBLISHED-TTL:P3D
REFRESH-INTERVAL:P3D
CALSCALE:GREGORIAN
BEGIN:VEVENT
DTSTART:20250529T200000Z
DTEND:20250529T210000Z
X-MICROSOFT-CDO-ALLDAYEVENT:FALSE
SUMMARY:Ribbon Cutting: FreeStar Fitness
DESCRIPTION:Join us in welcoming FreeStar Fitness to the Federal Way Business Community!\n\n\n\nFreeStar Fitness is a service-focused hybrid gym with professional coaches\, trainer-led classes\, and 24 hour gym access.
X-ALT-DESC;FMTTYPE=text/html:Join us in welcoming FreeStar Fitness to the Federal Way Business Community!<br />\n<br />\nFreeStar Fitness is a&nbsp\;service-focused hybrid gym with professional coaches\, trainer-led classes\, and 24 hour gym access.
LOCATION:FreeStar Fitness
UID:e.1152.10661
SEQUENCE:3
DTSTAMP:20260422T093751Z
URL:https://business.federalwaychamber.com/events/details/ribbon-cutting-freestar-fitness-10661
END:VEVENT

END:VCALENDAR
