BEGIN:VCALENDAR
VERSION:2.0
PRODID:-//ChamberMaster//Event Calendar 2.0//EN
METHOD:PUBLISH
X-PUBLISHED-TTL:P3D
REFRESH-INTERVAL:P3D
CALSCALE:GREGORIAN
BEGIN:VEVENT
DTSTART;VALUE=DATE:20260228
DTEND;VALUE=DATE:20260302
TRANSP:TRANSPARENT
X-MICROSOFT-CDO-ALLDAYEVENT:TRUE
SUMMARY:One Year Anniversary Celebration!
DESCRIPTION:IT'S OUR BIRTHDAY! COME CELEBRATE WITH US!\n\n\n\nSaturday February 28th from 11 a.m. to 7 p.m.\n\nSunday March 1st from 11 a.m. to 5 p.m.\n\n\n\n$1000 in daily raffle giveaways\n\nFree legendary Doughnuts on Saturday\n\nCustom baseplate for first 50 each day\n\n15ft inflatable minifig in the parking lot\n\nGift with purchase each day\n\nAnniversary sales each day\n\nNew inventory!
X-ALT-DESC;FMTTYPE=text/html:<div style="text-align: center\;"><span style="font-size:18px\;"><span style="font-size:22px\;"><span style="font-family:arial\,helvetica\,sans-serif"><strong>IT&#39\;S OUR BIRTHDAY! COME CELEBRATE WITH US!</strong></span></span><br />\n<br />\n<em style="text-align: center\;">Saturday February 28th from 11 a.m. to 7 p.m.<br />\nSunday March 1st from 11 a.m. to 5 p.m.</em></span></div>\n\n<div style="text-align: center\;"><br />\n<span style="font-size:18px\;"><span style="font-family:arial\,helvetica\,sans-serif">$1000 in daily raffle giveaways<br />\nFree legendary Doughnuts on Saturday<br />\nCustom baseplate for first 50 each day<br />\n15ft inflatable minifig in the parking lot<br />\nGift with purchase each day<br />\nAnniversary sales each day<br />\nNew inventory!</span></span></div>\n
LOCATION:
UID:e.1152.11004
SEQUENCE:3
DTSTAMP:20260421T165059Z
URL:https://business.federalwaychamber.com/events/details/one-year-anniversary-celebration-11004
END:VEVENT

END:VCALENDAR
