BEGIN:VCALENDAR
VERSION:2.0
PRODID:-//ChamberMaster//Event Calendar 2.0//EN
METHOD:PUBLISH
X-PUBLISHED-TTL:P3D
REFRESH-INTERVAL:P3D
CALSCALE:GREGORIAN
BEGIN:VEVENT
DTSTART:20150130T010000Z
DTEND:20150130T030000Z
X-MICROSOFT-CDO-ALLDAYEVENT:FALSE
SUMMARY:New Member Reception
DESCRIPTION:Open to New Members\, Chamber Board\, Chamber Staff\, and Chamber Ambassadors. Appetizers will be served. No-host bar available.
X-ALT-DESC;FMTTYPE=text/html:Open to New Members\, Chamber Board\, Chamber Staff\, and Chamber Ambassadors. Appetizers will be served. No-host bar available.
LOCATION:Courtyard Marriott 31910 Gateway Center Blvd. South Federal Way\, WA 98003
UID:e.1152.1558
SEQUENCE:3
DTSTAMP:20260419T134855Z
URL:https://business.federalwaychamber.com/events/details/new-member-reception-01-29-2015-1558
END:VEVENT

END:VCALENDAR
