BEGIN:VCALENDAR
VERSION:2.0
PRODID:-//ChamberMaster//Event Calendar 2.0//EN
METHOD:PUBLISH
X-PUBLISHED-TTL:P3D
REFRESH-INTERVAL:P3D
CALSCALE:GREGORIAN
BEGIN:VEVENT
DTSTART:20110708T143000Z
DTEND:20110708T160000Z
X-MICROSOFT-CDO-ALLDAYEVENT:FALSE
SUMMARY:Networking Breakfast
DESCRIPTION:Join us for our monthly Networking Breakfast!  Attend and get valuable contacts with your chamber members as well as obtaining some great networking tips for branching out into the business community!
X-ALT-DESC;FMTTYPE=text/html:<span class="cm_editor_fix">Join us for our monthly Networking Breakfast!&nbsp\; Attend and get valuable contacts with your chamber members as well as obtaining some great networking tips for branching out into the business community!</span>
LOCATION:Black Bear Diner 32065 Pacific Highway South Federal Way\, WA 98003
UID:e.1152.481
SEQUENCE:3
DTSTAMP:20260424T053544Z
URL:https://business.federalwaychamber.com/events/details/networking-breakfast-07-08-2011-481
END:VEVENT

END:VCALENDAR
