BEGIN:VCALENDAR
VERSION:2.0
PRODID:-//ChamberMaster//Event Calendar 2.0//EN
METHOD:PUBLISH
X-PUBLISHED-TTL:P3D
REFRESH-INTERVAL:P3D
CALSCALE:GREGORIAN
BEGIN:VEVENT
DTSTART:20110610T143000Z
DTEND:20110610T160000Z
X-MICROSOFT-CDO-ALLDAYEVENT:FALSE
SUMMARY:Networking Breakfast
DESCRIPTION:Join us for our monthly Networking Breakfast!  Attend and get valuable contacts with your chamber members as well as obtaining some great networking tips for branching out into the business community!
X-ALT-DESC;FMTTYPE=text/html:Join us for our monthly Networking Breakfast!&nbsp\; Attend and get valuable contacts with your chamber members as well as obtaining some great networking tips for branching out into the business community!
LOCATION:Marie Callender's 31920 Gateway Center Blvd. Federal Way\, WA 98003
UID:e.1152.454
SEQUENCE:3
DTSTAMP:20260424T071206Z
URL:https://business.federalwaychamber.com/events/details/networking-breakfast-06-10-2011-454
END:VEVENT

END:VCALENDAR
