BEGIN:VCALENDAR
VERSION:2.0
PRODID:-//ChamberMaster//Event Calendar 2.0//EN
METHOD:PUBLISH
X-PUBLISHED-TTL:P3D
REFRESH-INTERVAL:P3D
CALSCALE:GREGORIAN
BEGIN:VEVENT
DTSTART:20260107T194500Z
DTEND:20260107T210000Z
X-MICROSOFT-CDO-ALLDAYEVENT:FALSE
SUMMARY:Membership Meeting: State of Education
DESCRIPTION:The Greater Federal Way Chamber invites you to join us as we welcome Superintendent Dr. Dani Pfeiffer for a keynote on the State of Education in the Federal Way Public School District. There are 22\,000 students enrolled in the 37 District schools and 123 languages are spoken. With almost 3\,000 staff members including over 1600 teachers\, the District is one of the largest employers in Federal Way.\n\n\n\nThank you to our Sponsor\, Red Canoe Credit Union!
X-ALT-DESC;FMTTYPE=text/html:<div class="row gz-event-description" itemprop="about" style="box-sizing: border-box\; margin-right: -15px\; margin-left: -15px\; display: flex\; flex-wrap: wrap\; outline: 0px\; color: rgb(30\, 32\, 34)\; font-family: Roboto\; font-size: 16px\;">\n<div class="col" style="box-sizing: border-box\; position: relative\; width: 1090px\; min-height: 1px\; padding-right: 15px\; padding-left: 15px\; flex-basis: 0px\; flex-grow: 1\; max-width: 100%\; outline: 0px\;">\n<p style="box-sizing: border-box\; overflow-wrap: break-word\; margin: 0px 0px 1rem\; outline: 0px\;"><span style="font-size:16px\;"><span style="box-sizing: border-box\; outline: 0px\; font-family: arial\;">The Greater Federal Way Chamber invites you to join us as we welcome</span><span style="font-family:arial\;"> Superintendent Dr. Dani Pfeiffer for a keynote on the State of Education in the <a href="https://business.fedwaychamber.com/list/member/red-canoe-credit-union-293">Federal Way Public School District</a>.&nbsp\;</span><span style="color: rgb(30\, 32\, 34)\; font-family: arial\;">There are 22\,000 students enrolled in the 37 District schools and 123 languages are spoken. With almost 3\,000 staff members including over 1600 teachers\, the District is one of the largest employers in Federal&nbsp\;Way.</span><br />\n<br />\n<em style="box-sizing: border-box\; color: rgb(62\, 62\, 62)\; font-family: Roboto\, sans-serif\; font-size: 18px\; font-weight: 700\; white-space-collapse: preserve\;"><span style="box-sizing: border-box\;">Thank you to our Sponsor\, <a href="https://business.fedwaychamber.com/list/member/red-canoe-credit-union-293">Red Canoe Credit Union</a>!</span></em></span></p>\n</div>\n</div>\n
LOCATION:Federal Way Performing Arts & Event Center
UID:e.1152.10959
SEQUENCE:3
DTSTAMP:20260421T202450Z
URL:https://business.federalwaychamber.com/events/details/membership-meeting-state-of-education-10959
END:VEVENT

END:VCALENDAR
