BEGIN:VCALENDAR
VERSION:2.0
PRODID:-//ChamberMaster//Event Calendar 2.0//EN
METHOD:PUBLISH
X-PUBLISHED-TTL:P3D
REFRESH-INTERVAL:P3D
CALSCALE:GREGORIAN
BEGIN:VEVENT
DTSTART:20250604T184500Z
DTEND:20250604T200000Z
X-MICROSOFT-CDO-ALLDAYEVENT:FALSE
SUMMARY:Membership Meeting: How the Business of Healthcare Builds Community
DESCRIPTION:There is currently a high share of demand for health care services in South King that is not being met within the region\, forcing residents to go elsewhere for services. For example\, based on population in South King only 20% of the demand for hospitals is being met locally.\n\n \n\nLearn more on results of the Healthcare Supply Chain study at our June 4 Membership Meeting with Tony DeLisi\, Senior Manager at Ernst & Young.
X-ALT-DESC;FMTTYPE=text/html:<p style="margin: 0px\; padding: 0px\; color: rgb(22\, 29\, 38)\; font-family: Roboto\, sans-serif\; font-size: 16px\; white-space-collapse: preserve\;"><span style="font-size: 18px\;">There is currently a high share of demand for health care services in South King that is not being met within the region\, forcing residents to go elsewhere for services. For example\, based on population in South King only 20% of the demand for hospitals is being met locally.</span></p>\n\n<p style="margin: 0px\; padding: 0px\; color: rgb(22\, 29\, 38)\; font-family: Roboto\, sans-serif\; font-size: 16px\; white-space-collapse: preserve\;">&nbsp\;</p>\n\n<p style="margin: 0px\; padding: 0px\; color: rgb(22\, 29\, 38)\; font-family: Roboto\, sans-serif\; font-size: 16px\; white-space-collapse: preserve\;"><span style="font-size: 18px\;">Learn more </span><span style="font-size: 18px\;">on results of the Healthcare Supply Chain study at our June 4 Membership Meeting with Tony DeLisi\, Senior Manager at Ernst &amp\; Young.</span></p>\n
LOCATION:Federal Way Performing Arts & Event Center
UID:e.1152.10648
SEQUENCE:3
DTSTAMP:20260422T075559Z
URL:https://business.federalwaychamber.com/events/details/membership-meeting-how-the-business-of-healthcare-builds-community-10648
END:VEVENT

END:VCALENDAR
