BEGIN:VCALENDAR
VERSION:2.0
PRODID:-//ChamberMaster//Event Calendar 2.0//EN
METHOD:PUBLISH
X-PUBLISHED-TTL:P3D
REFRESH-INTERVAL:P3D
CALSCALE:GREGORIAN
BEGIN:VEVENT
DTSTART:20140212T000000Z
DTEND:20140212T040000Z
X-MICROSOFT-CDO-ALLDAYEVENT:FALSE
SUMMARY:Ladies Night out - Network and Wine down!!
DESCRIPTION:Amazing night of fun\, friends\, delicious treats\, great ways to meet other local Business Women\, and SHOP til you DROP! Complimentary Red and White Wine\, Apps\, Desserts\, and of course GREAT Vendors with GREAT products. Enjoy FREE Chair massage after a long day at work! VENDOR LIST: Miche Bag Nerium Ad Party Lite Mary Kay Jazzercise of Federal Way Swarovski Jewelery rep Bella Creations Ideal Protein Protandum COME in and BRING your girlfriends....this is going to be a night to remember!!!!!!!!!! RSVP!
X-ALT-DESC;FMTTYPE=text/html:Amazing night of fun\, friends\, delicious treats\, great ways to meet other local Business Women\, and SHOP til you DROP! Complimentary Red and White Wine\, Apps\, Desserts\, and of course GREAT Vendors with GREAT products. Enjoy FREE Chair massage after a long day at work! VENDOR LIST: Miche Bag Nerium Ad Party Lite Mary Kay Jazzercise of Federal Way Swarovski Jewelery rep Bella Creations Ideal Protein Protandum COME in and BRING your girlfriends....this is going to be a night to remember!!!!!!!!!! RSVP!
LOCATION:Wolf Chiropractic Center 1010 So. 336th Street #102 Federal Way\, WA 98003
UID:e.1152.1220
SEQUENCE:3
DTSTAMP:20260421T083811Z
URL:https://business.federalwaychamber.com/events/details/ladies-night-out-network-and-wine-down-02-11-2014-1220
END:VEVENT

END:VCALENDAR
