BEGIN:VCALENDAR
VERSION:2.0
PRODID:-//ChamberMaster//Event Calendar 2.0//EN
METHOD:PUBLISH
X-PUBLISHED-TTL:P3D
REFRESH-INTERVAL:P3D
CALSCALE:GREGORIAN
BEGIN:VEVENT
DTSTART:20241120T170000Z
DTEND:20241211T010000Z
X-MICROSOFT-CDO-ALLDAYEVENT:FALSE
SUMMARY:Holiday Tree Festival
DESCRIPTION:Our Holiday Tree Festival will feature unique pre-decorated artificial\n\ntrees visitors are welcome to view and bid on. 100% of proceeds from\n\nwinning bids will go to support the Federal Way Senior Center.\n\n\n\nThe Festival culminates on December 10th with our Sip and Shop Open House from\n\n10am-5pm. Enjoy hot cocoa while you shop and tour our beautiful campus!\n\n\n\nInterested in donating a tree to support event? There is still time! Contact us at 253-838-3700 to arrange!
X-ALT-DESC;FMTTYPE=text/html:Our Holiday Tree Festival will feature unique pre-decorated artificial<br />\ntrees visitors are welcome to view and bid on. 100% of proceeds from<br />\nwinning bids will go to support the Federal Way Senior Center.<br />\n<br />\nThe Festival culminates on December 10th with our Sip and Shop Open House from<br />\n10am-5pm. Enjoy hot cocoa while you shop and tour our beautiful campus!<br />\n<br />\nInterested in donating a tree to support event? There is still time! Contact us at 253-838-3700 to arrange!
LOCATION:Village Green Senior Living Fairfield Building 35451 1st Ave S. Federal Way\, WA 98003
UID:e.1152.10586
SEQUENCE:3
DTSTAMP:20260422T182421Z
URL:https://business.federalwaychamber.com/events/details/holiday-tree-festival-10586
END:VEVENT

END:VCALENDAR
