BEGIN:VCALENDAR
VERSION:2.0
PRODID:-//ChamberMaster//Event Calendar 2.0//EN
METHOD:PUBLISH
X-PUBLISHED-TTL:P3D
REFRESH-INTERVAL:P3D
CALSCALE:GREGORIAN
BEGIN:VEVENT
DTSTART:20250227T180000Z
DTEND:20250227T184500Z
X-MICROSOFT-CDO-ALLDAYEVENT:FALSE
SUMMARY:Healthcare in South King Roundtable
DESCRIPTION:Healthcare is an economic driver in our South King County footprint and we're doing an assessment on the industry with Ernst & Young (EY) on Thursday\, February 27\, at 10 a.m.\, at the Chamber. Join us for a roundtable discussion on the impact of healthcare for workforce\, education\, senior living\, destination\, and more. While in Federal Way\, EY will be facilitating focus groups to gather feedback on strengths and weakness as well as strategic actions for growth in the region. The assessment is one of the recommendations from the 2024 Regional Economic Develop Strategies Report and part of a grant project with the Washington Department of Commerce.
X-ALT-DESC;FMTTYPE=text/html:<p style="margin: 0px\; padding: 0px\; box-sizing: border-box\; font-size: 16px\; line-height: 1.5rem\; color: rgb(111\, 114\, 135)\; font-family: &quot\;Neue Plak&quot\;\, -apple-system\, BlinkMacSystemFont\, Roboto\, &quot\;Helvetica Neue&quot\;\, Helvetica\, Tahoma\, Arial\, sans-serif\;"><span style="font-family: Roboto\, sans-serif\; font-size: 18px\; color: rgb(36\, 36\, 36)\;">Healthcare is an economic driver in our South King County footprint and we&rsquo\;re doing an assessment on the industry with Ernst &amp\; Young (EY) on&nbsp\;</span><span style="font-family: Roboto\, sans-serif\; font-size: 18px\; color: rgb(36\, 36\, 36)\; font-weight: bold\;">Thursday\, February 27\, at 10 a.m.</span><span style="font-family: Roboto\, sans-serif\; font-size: 18px\; color: rgb(36\, 36\, 36)\;">\, at the Chamber.&nbsp\;Join us for a roundtable discussion on the impact of healthcare for workforce\, education\, senior living\, destination\, and more.&nbsp\;While in Federal Way\, EY will be facilitating focus groups to gather feedback on strengths and weakness as well as strategic actions for growth in the region. The assessment is one of the recommendations from the 2024</span><span style="font-family: Roboto\, sans-serif\; font-size: 18px\; color: rgb(17\, 69\, 135)\;">&nbsp\;</span><a href="https://www.fedwaychamber.com/assets/pdf/2024+Regional+Economic+Development+Strategy/" rel="noopener noreferrer" style="font-family: Roboto\, sans-serif\; font-size: 18px\; color: rgb(17\, 69\, 135)\;" target="_blank">Regional Economic Develop Strategies Report</a><span style="font-family: Roboto\, sans-serif\; font-size: 18px\; color: rgb(36\, 36\, 36)\;">&nbsp\;and part of a grant project with the Washington Department of Commerce.&nbsp\;</span></p>\n
LOCATION:Greater Federal Way Chamber of Commerce Boardroom
UID:e.1152.10639
SEQUENCE:3
DTSTAMP:20260422T145457Z
URL:https://business.federalwaychamber.com/events/details/healthcare-in-south-king-roundtable-10639
END:VEVENT

END:VCALENDAR
