BEGIN:VCALENDAR
VERSION:2.0
PRODID:-//ChamberMaster//Event Calendar 2.0//EN
METHOD:PUBLISH
X-PUBLISHED-TTL:P3D
REFRESH-INTERVAL:P3D
CALSCALE:GREGORIAN
BEGIN:VEVENT
DTSTART:20110623T000000Z
DTEND:20110623T020000Z
X-MICROSOFT-CDO-ALLDAYEVENT:FALSE
SUMMARY:Grand Opening at Cortiva Institute - Federal Way Campus
DESCRIPTION:Grand Opening\n\n	\n\n	Please join us from 5:00 to 7:00 pm to celebrate the opening of our new campus in Federal Way. We'll have free student chair massage\, champagne\, hors d'oeuvres\, and door prizes.\n\n	\n\n	You can RSVP at treed@cortiva.com.\n\n	We hope to see you there!\n~Leanne Dowd\, Campus Director\n\nCortiva Institute - Federal Way\n\nMassage Therapy School
X-ALT-DESC;FMTTYPE=text/html:<p>\n	<strong>Grand Opening</strong><br />\n	<br />\n	Please join us from 5:00 to 7:00 pm to celebrate the opening of our new campus in Federal Way. We&#39\;ll have free student chair massage\, champagne\, hors d&#39\;oeuvres\, and door prizes.<br />\n	<br />\n	You can RSVP at treed@cortiva.com.</p>\n<p>\n	We hope to see you there!</p>\n~Leanne Dowd\, Campus Director<br />\nCortiva Institute - Federal Way<br />\nMassage Therapy School
LOCATION:Cortiva Institute - Federal Way 2030 S 314th Street Federal Way 98003
UID:e.1152.500
SEQUENCE:3
DTSTAMP:20260424T071643Z
URL:https://business.federalwaychamber.com/events/details/grand-opening-at-cortiva-institute-federal-way-campus-06-22-2011-500
END:VEVENT

END:VCALENDAR
