BEGIN:VCALENDAR
VERSION:2.0
PRODID:-//ChamberMaster//Event Calendar 2.0//EN
METHOD:PUBLISH
X-PUBLISHED-TTL:P3D
REFRESH-INTERVAL:P3D
CALSCALE:GREGORIAN
BEGIN:VEVENT
DTSTART:20110603T183000Z
DTEND:20110603T200000Z
X-MICROSOFT-CDO-ALLDAYEVENT:FALSE
SUMMARY:Grand Opening
DESCRIPTION:Join us for the Grand Opening / Ribbon Cutting Ceremony of the new Wynstone Housing Community by Quadrant Homes!
X-ALT-DESC;FMTTYPE=text/html:Join us for the Grand Opening / Ribbon Cutting Ceremony of the new Wynstone Housing Community by Quadrant Homes!
LOCATION:Wynstone 1317 SW 340th Street Federal Way\, WA 98023
UID:e.1152.462
SEQUENCE:3
DTSTAMP:20260424T084719Z
URL:https://business.federalwaychamber.com/events/details/grand-opening-06-03-2011-462
END:VEVENT

END:VCALENDAR
