BEGIN:VCALENDAR
VERSION:2.0
PRODID:-//ChamberMaster//Event Calendar 2.0//EN
METHOD:PUBLISH
X-PUBLISHED-TTL:P3D
REFRESH-INTERVAL:P3D
CALSCALE:GREGORIAN
BEGIN:VEVENT
DTSTART:20251210T190000Z
DTEND:20251210T200000Z
X-MICROSOFT-CDO-ALLDAYEVENT:FALSE
SUMMARY:FWPS: 2026 Educational Programs and Operations Levy Briefing
DESCRIPTION:Join us for an online briefing with Federal Way Public Schools for information regarding the Educational and Programs (EP&O) Levy.\n\n\n\nFWPS is asking voters to renew the existing community-approved EP&O Levy\, which expires in December 2026.\n\nThis is not a new tax. It is funding that has been continuously supported in our community since 1980 and currently represents 10% of the district's overall budget\, funding day-to-day operations. \n\nIf approved\, this measure would continue to provide local funding to bridge the gap between what the state provides and what is actually needed to run a school district. This would allow the district to continue funding essential programs\, services\, and staff that support scholar academics\, safety\, and well-being across FWPS schools. \n\nPlease visit FWPS' Frequently Asked Questions Page and their School Levy Voter Pamphlet Statement Committee Application process if you are interested in providing a Pro or Con statement.
X-ALT-DESC;FMTTYPE=text/html:<div class="fsElement fsContent" data-use-new="true" id="fsEl_60045" style="box-sizing: border-box\; margin-bottom: 60px\; color: rgb(55\, 55\, 55)\; font-family: futura-pt\, sans-serif\; font-size: 18px\;">\n<div class="fsElementContent" style="box-sizing: border-box\;">\n<p paraeid="{1ae02b07-fb6e-4b34-a915-07b5caf669a7}{7}" paraid="1757208897" style="box-sizing: border-box\; margin: 0px 0px 20px\;"><span style="font-size:14px\;"><span style="font-family:arial\;">Join us for an online&nbsp\;briefing with Federal Way Public Schools for information regarding&nbsp\;the&nbsp\;</span></span><span style="color: rgb(55\, 55\, 55)\; font-family: arial\; font-size: 14px\;">Educational&nbsp\;and Programs (EP&amp\;O) Levy.</span><br />\n<br />\n<span style="font-size:14px\;"><span style="font-family:arial\;">FWPS is asking voters to renew the existing community-approved EP&amp\;O&nbsp\;Levy\, which expires in December 2026.</span></span></p>\n\n<p paraeid="{1ae02b07-fb6e-4b34-a915-07b5caf669a7}{7}" paraid="1757208897" style="box-sizing: border-box\; margin: 0px 0px 20px\;"><span style="font-size:14px\;"><span style="font-family:arial\;"><span style="box-sizing: border-box\; font-weight: bolder\;">This is not a new tax.</span>&nbsp\;It is funding that has been continuously supported in our community since 1980 and currently represents 10% of the district&#39\;s overall budget\, funding day-to-day operations.&nbsp\;</span></span></p>\n\n<p paraeid="{1ae02b07-fb6e-4b34-a915-07b5caf669a7}{7}" paraid="1757208897" style="box-sizing: border-box\; margin: 0px 0px 20px\;"><span style="font-size:14px\;"><span style="font-family:arial\;">If approved\, this measure would continue to&nbsp\;provide&nbsp\;local funding to bridge&nbsp\;the gap between what the state provides and what is actually needed to run a school district. This would allow the district to continue funding essential programs\, services\, and staff that support scholar academics\, safety\, and well-being across FWPS schools.&nbsp\;</span></span></p>\n\n<p paraeid="{1ae02b07-fb6e-4b34-a915-07b5caf669a7}{7}" paraid="1757208897" style="box-sizing: border-box\; margin: 0px\;"><span style="font-size:14px\;"><span style="font-family:arial\;">Please visit FWPS&#39\;&nbsp\;<a href="http://www.fwps.org/about-us/levy-2026/levy-faqs">Frequently Asked Questions Page</a>&nbsp\;and their&nbsp\;<a href="http://www.fwps.org/about-us/levy-2026/procon-committee-application">School Levy Voter Pamphlet Statement Committee Application</a>&nbsp\;process if you are interested in providing a Pro or Con statement.</span></span></p>\n</div>\n</div>\n
LOCATION:Online Meeting Meeting information will be emailed to registrants prior to the event
UID:e.1152.10957
SEQUENCE:3
DTSTAMP:20260421T221015Z
URL:https://business.federalwaychamber.com/events/details/fwps-2026-educational-programs-and-operations-levy-briefing-10957
END:VEVENT

END:VCALENDAR
