BEGIN:VCALENDAR
VERSION:2.0
PRODID:-//ChamberMaster//Event Calendar 2.0//EN
METHOD:PUBLISH
X-PUBLISHED-TTL:P3D
REFRESH-INTERVAL:P3D
CALSCALE:GREGORIAN
BEGIN:VEVENT
DTSTART:20250422T200000Z
DTEND:20250422T210000Z
X-MICROSOFT-CDO-ALLDAYEVENT:FALSE
SUMMARY:FIFA FedWay Taskforce Meeting
DESCRIPTION:The FIFA World Cup is coming to the Pacific Northwest in 2026\, and the Chamber is getting ready for opportunities for our businesses.\n\n \n\nBe part of the plan! Join us for a FIFA Taskforce as we work on maximizing our connection to this global event.
X-ALT-DESC;FMTTYPE=text/html:<p style="margin: 0px\; padding: 0px\; color: rgb(62\, 62\, 62)\; font-family: Arial\, Verdana\, Helvetica\, sans-serif\; font-size: 14px\; white-space-collapse: preserve\;"><span style="font-size:14px\;"><span style="color: rgb(0\, 0\, 0)\; font-family: Roboto\, sans-serif\;">The FIFA World Cup is coming to the Pacific Northwest in 2026\, and the Chamber is getting ready for opportunities for our businesses.</span></span></p>\n\n<p style="margin: 0px\; padding: 0px\; color: rgb(62\, 62\, 62)\; font-family: Arial\, Verdana\, Helvetica\, sans-serif\; font-size: 14px\; white-space-collapse: preserve\;">&nbsp\;</p>\n\n<p style="margin: 0px\; padding: 0px\; color: rgb(62\, 62\, 62)\; font-family: Arial\, Verdana\, Helvetica\, sans-serif\; font-size: 14px\; white-space-collapse: preserve\;"><span style="font-size:14px\;"><span style="color: rgb(0\, 0\, 0)\; font-weight: bold\; font-family: Roboto\, sans-serif\;">Be part of the plan!</span><span style="color: rgb(0\, 0\, 0)\; font-family: Roboto\, sans-serif\;"> Join us for a FIFA Taskforce as we work on maximizing our connection to this global event.</span></span></p>\n
LOCATION:Chamber Boardroom
UID:e.1152.10649
SEQUENCE:3
DTSTAMP:20260424T082306Z
URL:https://business.federalwaychamber.com/events/details/fifa-fedway-taskforce-meeting-10649
END:VEVENT

END:VCALENDAR
