BEGIN:VCALENDAR
VERSION:2.0
PRODID:-//ChamberMaster//Event Calendar 2.0//EN
METHOD:PUBLISH
X-PUBLISHED-TTL:P3D
REFRESH-INTERVAL:P3D
CALSCALE:GREGORIAN
BEGIN:VEVENT
DTSTART:20251203T194500Z
DTEND:20251203T210000Z
X-MICROSOFT-CDO-ALLDAYEVENT:FALSE
SUMMARY:December Membership Meeting: Pickleball Coming to Federal Way
DESCRIPTION:Get Ready to Rally\n\nJoin us to hear more on the development of pickleball in Federal Way with Sanket Mehta\, Owner of The Picklr Federal Way. Did you know: Pickleball is an international sports phenomenon that was invented here in Washington State! We're getting ready to dink\, are you?\n\n\n\nAbout the Speaker\n\nSanket Mehta is a seasoned finance leader with over a decade of experience guiding high-growth companies across tech\, retail\, and global marketplaces. He has led financial strategy for organizations ranging from fast-scaling startups to Amazon's multi-hundred-billion-dollar global Stores business.\n\n\n\nOver the last three years\, Sanket has also owned and operated a family entertainment center in Bellevue\, bringing his passion for business building into the community. With a background in both engineering and finance\, he blends analytical rigor with a people-first leadership approach.
X-ALT-DESC;FMTTYPE=text/html:<div class="row gz-event-description" itemprop="about" style="box-sizing: border-box\; margin-right: -15px\; margin-left: -15px\; display: flex\; flex-wrap: wrap\; outline: 0px\; color: rgb(30\, 32\, 34)\; font-family: Roboto\;">\n<div class="col" style="box-sizing: border-box\; position: relative\; width: 1090px\; min-height: 1px\; padding-right: 15px\; padding-left: 15px\; flex-basis: 0px\; flex-grow: 1\; max-width: 100%\; outline: 0px\;">\n<p style="margin: 0px\; padding: 0px\; color: rgb(22\, 29\, 38)\; font-family: Roboto\, sans-serif\; white-space-collapse: preserve\; text-align: center\;"><span style="font-family: arial\;"><span style="font-size:24px\;"><b>Get Ready to Rally</b></span><br />\n<span style="font-size: 18px\;">Join us to hear more on the development of pickleball in Federal Way with </span><span style="font-size: 18px\; color: rgb(8\, 8\, 9)\;">Sanket Mehta\, Owner of The Picklr Federal Way</span><span style="font-size: 18px\; color: rgb(8\, 8\, 9)\; font-style: italic\;">. </span><span style="font-size: 18px\;">Did you know: Pickleball is an international sports phenomenon that was invented here in Washington State! We&#39\;re getting ready to </span><a data-link-type="web" href="https://www.pickleballmax.com/2020/11/pickleball-terms/" rel="noopener noreferrer" style="font-size: 18px\; color: rgb(18\, 69\, 135)\;" target="_blank">dink</a><span style="font-size: 18px\;">\, are you?<br />\n<br />\n<span style="font-size:20px\;"><strong>About the Speaker</strong></span><br />\nSanket Mehta is a seasoned finance leader with over a decade of experience guiding high-growth companies across tech\, retail\, and global marketplaces. He has led financial strategy for organizations ranging from fast-scaling startups to Amazon&rsquo\;s multi-hundred-billion-dollar global Stores business.<br />\n<br />\nOver the last three years\, Sanket has also owned and operated a family entertainment center in Bellevue\, bringing his passion for business building into the community. With a background in both engineering and finance\, he blends analytical rigor with a people-first leadership approach. </span></span></p>\n</div>\n</div>\n
LOCATION:Federal Way Performing Arts & Event Center
UID:e.1152.10940
SEQUENCE:3
DTSTAMP:20260421T221226Z
URL:https://business.federalwaychamber.com/events/details/december-membership-meeting-pickleball-coming-to-federal-way-10940
END:VEVENT

END:VCALENDAR
