BEGIN:VCALENDAR
VERSION:2.0
PRODID:-//ChamberMaster//Event Calendar 2.0//EN
METHOD:PUBLISH
X-PUBLISHED-TTL:P3D
REFRESH-INTERVAL:P3D
CALSCALE:GREGORIAN
BEGIN:VEVENT
DTSTART:20110714T010000Z
DTEND:20110714T030000Z
X-MICROSOFT-CDO-ALLDAYEVENT:FALSE
SUMMARY:Candidate's Forum - Primary
DESCRIPTION:Candidate's Forum - Primary Elections
X-ALT-DESC;FMTTYPE=text/html:Candidate&#39\;s Forum - Primary Elections
LOCATION:Federal Way High School's Little Theatre 30611 16th Avenue South Federal Way\, WA 98003
UID:e.1152.542
SEQUENCE:3
DTSTAMP:20260424T071340Z
URL:https://business.federalwaychamber.com/events/details/candidate-s-forum-primary-07-13-2011-542
END:VEVENT

END:VCALENDAR
