BEGIN:VCALENDAR
VERSION:2.0
PRODID:-//ChamberMaster//Event Calendar 2.0//EN
METHOD:PUBLISH
X-PUBLISHED-TTL:P3D
REFRESH-INTERVAL:P3D
CALSCALE:GREGORIAN
BEGIN:VEVENT
DTSTART:20250415T150000Z
DTEND:20250415T160000Z
X-MICROSOFT-CDO-ALLDAYEVENT:FALSE
SUMMARY:Business Before Hours: Global Credit Union
DESCRIPTION:Network before hours with members of the greater Federal Way business community and Global Credit Union!\n\n\n\nMaking their services available across the country and the globe\, Global Credit Union pride themselves on being not only one of the largest credit unions in the U.S.\, but also one of the most versatile. Wherever you go\, you can take them with you.
X-ALT-DESC;FMTTYPE=text/html:<span style="color: rgb(30\, 32\, 34)\; font-family: arial\; font-size: 14px\;">Network before hours with members of the greater Federal Way business community and&nbsp\;</span><a href="https://business.fedwaychamber.com/list/member/global-credit-union-5" style="box-sizing: border-box\; color: rgb(78\, 134\, 159)\; text-decoration-line: none\; overflow-wrap: break-word\; font-family: arial\; font-size: 14px\;">Global Credit Union</a><span style="color: rgb(30\, 32\, 34)\; font-family: arial\; font-size: 14px\;">!</span><br style="box-sizing: border-box\; color: rgb(30\, 32\, 34)\; font-family: arial\; font-size: 14px\;" />\n<br style="box-sizing: border-box\; color: rgb(30\, 32\, 34)\; font-family: arial\; font-size: 14px\;" />\n<span style="color: rgb(30\, 32\, 34)\; font-family: arial\; font-size: 14px\;">Making their services available across the country and the globe\, Global Credit Union&nbsp\;pride themselves on being not only one of the largest credit unions in the U.S.\, but also one of the most versatile. Wherever you go\, you can take them with you.</span>
LOCATION:
UID:e.1152.10642
SEQUENCE:3
DTSTAMP:20260422T113351Z
URL:https://business.federalwaychamber.com/events/details/business-before-hours-global-credit-union-10642
END:VEVENT

END:VCALENDAR
