BEGIN:VCALENDAR
VERSION:2.0
PRODID:-//ChamberMaster//Event Calendar 2.0//EN
METHOD:PUBLISH
X-PUBLISHED-TTL:P3D
REFRESH-INTERVAL:P3D
CALSCALE:GREGORIAN
BEGIN:VEVENT
DTSTART:20250717T150000Z
DTEND:20250717T160000Z
X-MICROSOFT-CDO-ALLDAYEVENT:FALSE
SUMMARY:Business Before Hours: Global Credit Union
DESCRIPTION:Network before hours with members of the greater Federal Way business community and Global Credit Union!\n\n\n\nMaking their services available across the country and the globe\, Global Credit Union pride themselves on being not only one of the largest credit unions in the U.S.\, but also one of the most versatile. Wherever you go\, you can take them with you.
X-ALT-DESC;FMTTYPE=text/html:<span style="font-size:14px\;"><span style="font-family:arial\;">Network before hours with members of the greater Federal Way business community and <a href="https://business.fedwaychamber.com/list/member/global-credit-union-5">Global Credit Union</a>!<br />\n<br />\nMaking their services available across the country and the globe\, Global Credit Union&nbsp\;pride themselves on being not only one of the largest credit unions in the U.S.\, but also one of the most versatile. Wherever you go\, you can take them with you.</span></span><br />\n<br />\n&nbsp\;
LOCATION:
UID:e.1152.10667
SEQUENCE:3
DTSTAMP:20260422T062533Z
URL:https://business.federalwaychamber.com/events/details/business-before-hours-global-credit-union-07-17-2025-10667
END:VEVENT

END:VCALENDAR
